BEGIN:VCALENDAR
VERSION:2.0
PRODID:-//CiviCRM//NONSGML CiviEvent iCal//EN
X-WR-TIMEZONE:UTC
METHOD:PUBLISH
BEGIN:VTIMEZONE
TZID:UTC
BEGIN:STANDARD
TZOFFSETFROM:+0000
TZOFFSETTO:+0000
TZNAME:UTC
DTSTART:20261030T090000
END:STANDARD
END:VTIMEZONE
BEGIN:VEVENT
UID:CiviCRM_EventID_5_4c5f15050e5ab9f0f6166efea1ca1080@staging.honeyshowusa.com
SUMMARY:Oregon Intro Training
X-ALT-DESC;FMTTYPE=text/html:<!DOCTYPE HTML PUBLIC
  "-//W3C//DTD HTML 3.2//EN"><html><body><p><strong
 ><strong>Honey Judge Training & Certification (Lev
 el 1)</strong></strong></p>\n \n <p>Honey Judging 
 is a fascinating\, detail-oriented pursuit. If you
  like to learn\, if you like to teach\, if you lik
 e to see the coolest stuff before anyone else does
 \, honey judging might be right for you! Join us i
 n Seaside\, OR\, for this exciting event! This pro
 gram is perfect for honey enthusiasts looking to e
 nhance their knowledge and skills. Whether you're 
 a beginner or an experienced beekeeper\, our compr
 ehensive program is appropriate for any level of b
 eekeeping experience!</p>\n \n <p>During this even
 t\, you'll learn about the science of honey judgin
 g\, from the basics to advanced techniques. Our ex
 pert instructors will cover topics such as</p>\n \
 n <ul>\n 	<li>food safety and hygiene\,</li>\n 	<l
 i>proper harvesting\, processing\, and handling\,<
 /li>\n 	<li>honey show logistics and administratio
 n\, and</li>\n 	<li>proper judging etiquette\, eth
 ics\, and techniques.</li>\n </ul>\n \n <p>The Int
 roductory Training Class is the first step on the 
 road to becoming an AHSTC Certified Honey Judge! T
 he Intro Training Class (Level 1) is a day-long ev
 ent. At the conclusion of the Level 1 class\, part
 icipants will be a certified Honey Judge Candidate
 . There are a number of steps Honey Judge Candidat
 es must complete before becoming eligible to sit f
 or the (Level 2) Certified Honey Judge Exam. You c
 an check out our website at www.honeyshowusa.com f
 or complete program requirements. It takes most in
 dividuals 12-18 months to complete the requirement
 s to sit for the (Level 2) Certified Honey Judge E
 xam. Honey Judge Candidates must complete all Leve
 l 2 program requirements prior to signing up for t
 he Level 2 exam.</p>\n \n <p>Don't miss this oppor
 tunity to start on the path to becoming a certifie
 d honey judge\, or to continue with your training 
 and certification journey!</p>\n \n <p><strong><st
 rong>*PLEASE NOTE - </strong></strong>The Honey Ju
 dge training is a separate\, but related event fro
 m the OSBA Conference. You must be a registered at
 tendee of the OSBA 2026 Conference to attend the H
 oney Judge Training. Please register for the OSBA 
 conference on the OSBA conference webpage.</p>\n \
 n <p>Being a registered attendee of the OSBA 2026 
 Conference entitles you to enter the Conference Ho
 ney Show and start earning show points. We <em>hig
 h</em><em>ly</em> recommend and <em>strongly</em> 
 encourage all Intro Training attendees to enter as
  many categories in the honey show as they can.</p
 ></body></html>
DESCRIPTION:Honey Judge Training & Certification (Level 1)\n \
 n \n \n Honey Judging is a fascinating\, detail-or
 iented pursuit. If you like to learn\, if you like
  to teach\, if you like to see the coolest stuff b
 efore anyone else does\, honey judging might be ri
 ght for you! Join us in Seaside\, OR\, for this ex
 citing event! This program is perfect for honey en
 thusiasts looking to enhance their knowledge and s
 kills. Whether you're a beginner or an experienced
  beekeeper\, our comprehensive program is appropri
 ate for any level of beekeeping experience!\n \n \
 n \n During this event\, you'll learn about the sc
 ience of honey judging\, from the basics to advanc
 ed techniques. Our expert instructors will cover t
 opics such as\n \n \n \n \n 	food safety and hygie
 ne\,\n 	proper harvesting\, processing\, and handl
 ing\,\n 	honey show logistics and administration\,
  and\n 	proper judging etiquette\, ethics\, and te
 chniques.\n \n \n The Introductory Training Class 
 is the first step on the road to becoming an AHSTC
  Certified Honey Judge! The Intro Training Class (
 Level 1) is a day-long event. At the conclusion of
  the Level 1 class\, participants will be a certif
 ied Honey Judge Candidate. There are a number of s
 teps Honey Judge Candidates must complete before b
 ecoming eligible to sit for the (Level 2) Certifie
 d Honey Judge Exam. You can check out our website 
 at www.honeyshowusa.com for complete program requi
 rements. It takes most individuals 12-18 months to
  complete the requirements to sit for the (Level 2
 ) Certified Honey Judge Exam. Honey Judge Candidat
 es must complete all Level 2 program requirements 
 prior to signing up for the Level 2 exam.\n \n \n 
 \n Don't miss this opportunity to start on the pat
 h to becoming a certified honey judge\, or to cont
 inue with your training and certification journey!
 \n \n \n \n *PLEASE NOTE - The Honey Judge trainin
 g is a separate\, but related event from the OSBA 
 Conference. You must be a registered attendee of t
 he OSBA 2026 Conference to attend the Honey Judge 
 Training. Please register for the OSBA conference 
 on the OSBA conference webpage.\n \n \n \n Being a
  registered attendee of the OSBA 2026 Conference e
 ntitles you to enter the Conference Honey Show and
  start earning show points. We highly recommend an
 d strongly encourage all Intro Training attendees 
 to enter as many categories in the honey show as t
 hey can.\n \n 
CATEGORIES:Training Class
CALSCALE:GREGORIAN
DTSTAMP;TZID=UTC:20261030T090000
DTSTART;TZID=UTC:20261030T090000
DTEND;TZID=UTC:20261030T160000
LOCATION:Seaside\, OR\n United States\n 
URL:https://staging.honeyshowusa.com/civicrm/event/info/?reset=1&id=5
END:VEVENT
END:VCALENDAR
